BEGIN:VCALENDAR
VERSION:2.0
PRODID:-//eventon.com NONSGML v1.0//EN
CALSCALE:GREGORIAN
METHOD:PUBLISH
BEGIN:VEVENT
UID:69e795f101b4c
DTSTAMP:20260421T152121Z
DTSTART:20260124
DTEND:20260125
LOCATION:
SUMMARY:Comptez les oiseaux du jardin
DESCRIPTION:Grande opÃ©ration citoyenne Comptez les Oiseaux des Jardins en 
 Bretagne et Loire-Atlantique Le temps dâ€™un week-end\,  prenez le temps dâ
 €™observer la nature tout prÃ¨s de chez vous ! Depuis votre jardin\,  un pa
 rc ou mÃªme un balcon\,  observez\,  identifiez et comptez les oiseaux que 
 vous voyez : rouge-gorge familier\,  mÃ©sanges\, [..]\nhttps://lofficieldep
 aimboeuf.com/events/comptez-les-oiseaux-du-jardin/
URL:https://lofficieldepaimboeuf.com/events/comptez-les-oiseaux-du-jardin/
END:VEVENT
END:VCALENDAR