BEGIN:VCALENDAR
VERSION:2.0
PRODID:-//eventon.com NONSGML v1.0//EN
CALSCALE:GREGORIAN
METHOD:PUBLISH
BEGIN:VEVENT
UID:69e796ae35950
DTSTAMP:20260421T152430Z
DTSTART:20260129T170000Z
DTEND:20260129T225000Z
LOCATION:
SUMMARY:Fusion de frappes et de souffles
DESCRIPTION:Rencontre entre la fanfare de rue et les élèves de batterie e
 t de percussions\,  pour un concert explosif !\nhttps://lofficieldepaimboeu
 f.com/events/fusion-de-frappes-et-de-souffles/
URL:https://lofficieldepaimboeuf.com/events/fusion-de-frappes-et-de-souffles/
END:VEVENT
END:VCALENDAR