BEGIN:VCALENDAR
VERSION:2.0
PRODID:-//eventon.com NONSGML v1.0//EN
CALSCALE:GREGORIAN
METHOD:PUBLISH
BEGIN:VEVENT
UID:69e7629fbca4d
DTSTAMP:20260421T114223Z
DTSTART:20260110
DTEND:20260111
LOCATION:
SUMMARY:Agnès Castagné
DESCRIPTION:Agnès Castagnée\,  artiste basée à Saint-Brévin-les-Pins\,
   crée des peintures abstraites sur des planches de bois recyclées. Elle 
 réalise des modèles selon son intuition\,  pour elle\,  les formes et les
  couleurs qui s’unissent au fil du temps sont une découverte de chaque i
 nstant. Vernissage samedi 10 janvier 2026 de 10h30 à[..]\nhttps://lofficie
 ldepaimboeuf.com/events/agnes-castagne/
URL:https://lofficieldepaimboeuf.com/events/agnes-castagne/
END:VEVENT
END:VCALENDAR