BEGIN:VCALENDAR
VERSION:2.0
PRODID:-//eventon.com NONSGML v1.0//EN
CALSCALE:GREGORIAN
METHOD:PUBLISH
BEGIN:VEVENT
UID:69e762b844a8f
DTSTAMP:20260421T114248Z
DTSTART:20260201T180000Z
DTEND:20260201T193000Z
LOCATION:
SUMMARY:Maudite soit la guerre • Pierre Douillard-Lefèvre
DESCRIPTION:Présentation de l'ouvrage par son auteur "Le réarmement est d
 ans tous les discours\,  l'économie de guerre est imposée à coups d'aust
 érité\,  les Empires se militarisent\,  la France est le deuxième vendeu
 r d'armes de la planète\,  l'anéantissement de Gaza se poursuit\,  le fon
 d de l'air est kaki et les accents martiaux[..]\nhttps://lofficieldepaimboe
 uf.com/events/maudite-soit-la-guerre-pierre-douillard-lefevre/
URL:https://lofficieldepaimboeuf.com/events/maudite-soit-la-guerre-pierre-douillard-lefevre/
END:VEVENT
END:VCALENDAR