BEGIN:VCALENDAR
VERSION:2.0
PRODID:-//eventon.com NONSGML v1.0//EN
CALSCALE:GREGORIAN
METHOD:PUBLISH
BEGIN:VEVENT
UID:69e762b9688f6
DTSTAMP:20260421T114249Z
DTSTART:20260214T193000Z
DTEND:20260214T210000Z
LOCATION:
SUMMARY:Wendy Darlings
DESCRIPTION:https://www.youtube.com/watch?v=QW151C8r-PQ https://www.youtube
 .com/watch?v=ZCob0-3nrnc\nhttps://lofficieldepaimboeuf.com/events/wendy-dar
 lings/
URL:https://lofficieldepaimboeuf.com/events/wendy-darlings/
END:VEVENT
END:VCALENDAR