BEGIN:VCALENDAR
VERSION:2.0
PRODID:-//eventon.com NONSGML v1.0//EN
CALSCALE:GREGORIAN
METHOD:PUBLISH
BEGIN:VEVENT
UID:69e762fb9fc14
DTSTAMP:20260421T114355Z
DTSTART:20251213T120400Z
DTEND:20251231T120400Z
LOCATION:
SUMMARY:Eaudalix
DESCRIPTION:Eaudalix est une artiste française au style très coloré\,  i
 nstinctif et sublimé de noir. Son univers\,  richement décoré\,  puise d
 ’abord dans le fauvisme\,  sa première grande influence : Matisse ayant 
 marqué son enfance et sa manière d’aborder la couleur. Fleurs\,  motifs
  organiques et symboliques accompagnent ses figures\,  principalement fémi
 nines\,  ainsi[..]\nhttps://lofficieldepaimboeuf.com/events/eaudalix/
URL:https://lofficieldepaimboeuf.com/events/eaudalix/
END:VEVENT
END:VCALENDAR