BEGIN:VCALENDAR
VERSION:2.0
PRODID:-//eventon.com NONSGML v1.0//EN
CALSCALE:GREGORIAN
METHOD:PUBLISH
BEGIN:VEVENT
UID:69e763024c7d4
DTSTAMP:20260421T114402Z
DTSTART:20260228T180000Z
DTEND:20260228T225900Z
LOCATION:
SUMMARY:Février La Louve : La Fête
DESCRIPTION:Restitution de résidence atelier de fabrication de masquesConc
 ert de musique trad avec Suzie et Juani\nhttps://lofficieldepaimboeuf.com/e
 vents/fevrier-la-louve-la-fete/
URL:https://lofficieldepaimboeuf.com/events/fevrier-la-louve-la-fete/
END:VEVENT
END:VCALENDAR