BEGIN:VCALENDAR
VERSION:2.0
PRODID:-//eventon.com NONSGML v1.0//EN
CALSCALE:GREGORIAN
METHOD:PUBLISH
BEGIN:VEVENT
UID:69e762a0b15ba
DTSTAMP:20260421T114224Z
DTSTART:20260124T193000Z
DTEND:20260124T210000Z
LOCATION:
SUMMARY:Charpie
DESCRIPTION:Charpie est composé de Grandchlem aux machines et d'Eddy Schat
 z au micro. Le duo balance des sons bruts qui s’encastrent dans des texte
 s en français crus et sans compromis. Des boucles et des mots sortis d’u
 ne cave un mercredi de séchage de cours ou d’un retour de soirée aux en
 virons[..]\nhttps://lofficieldepaimboeuf.com/events/charpie/
URL:https://lofficieldepaimboeuf.com/events/charpie/
END:VEVENT
END:VCALENDAR