BEGIN:VCALENDAR
VERSION:2.0
PRODID:-//eventon.com NONSGML v1.0//EN
CALSCALE:GREGORIAN
METHOD:PUBLISH
BEGIN:VEVENT
UID:69e7955121096
DTSTAMP:20260421T151841Z
DTSTART:20251108T080000Z
DTEND:20251126T160000Z
LOCATION:
SUMMARY:André Cosson
DESCRIPTION:André Cosson\,  artiste mosaïste Pérézien\,  vous invite à
  s’immiscer dans son monde au travers de ses différentes œuvres. Ouvert
 ure 9h - 12h / 14h - 17hGratuit – Entrée libre\nhttps://lofficieldepaimb
 oeuf.com/events/andre-cosson/
URL:https://lofficieldepaimboeuf.com/events/andre-cosson/
END:VEVENT
END:VCALENDAR