BEGIN:VCALENDAR
VERSION:2.0
PRODID:-//eventon.com NONSGML v1.0//EN
CALSCALE:GREGORIAN
METHOD:PUBLISH
BEGIN:VEVENT
UID:69e7956087315
DTSTAMP:20260421T151856Z
DTSTART:20251128T090000Z
DTEND:20251130T173000Z
LOCATION:
SUMMARY:Boutique éphémère de Noël
DESCRIPTION:Créations artisanales Art illustré\,  aquarelles\,  bougies\,
   carterie artisanale\,  créations bois\,  créations couture\,  dessins\,
   fleurs séchées. Boissons chaudes\,  chocolat\,  thé\,  café\,  vin ch
 aud\,  crêpes en après-midi\nhttps://lofficieldepaimboeuf.com/events/bout
 ique-ephemere-de-noel/
URL:https://lofficieldepaimboeuf.com/events/boutique-ephemere-de-noel/
END:VEVENT
END:VCALENDAR