BEGIN:VCALENDAR
VERSION:2.0
PRODID:-//eventon.com NONSGML v1.0//EN
CALSCALE:GREGORIAN
METHOD:PUBLISH
BEGIN:VEVENT
UID:69e762571f563
DTSTAMP:20260421T114111Z
DTSTART:20250719
DTEND:20250720
LOCATION:
SUMMARY:Le Sot l'Y Laisse
DESCRIPTION:Tout le monde sait faire des choses\,  personne ne sait tout\, 
  beaucoup veulent apprendre. Le Sot l’y Laisse est un moment dans l’ann
 ée consacré à la transmission de nos savoirs\,  savoir-faire\,  connaiss
 ances\,  compétences\,  expériences acquises. Quelques exemples au hasard
  : tour à bois\,  cuisine\,  pains\,  pizzas\,  dessin\,  sculpture\,  pei
 nture (art[..]\nhttps://lofficieldepaimboeuf.com/events/le-sot-ly-laisse/
URL:https://lofficieldepaimboeuf.com/events/le-sot-ly-laisse/
END:VEVENT
END:VCALENDAR