BEGIN:VCALENDAR
VERSION:2.0
PRODID:-//eventon.com NONSGML v1.0//EN
CALSCALE:GREGORIAN
METHOD:PUBLISH
BEGIN:VEVENT
UID:69e79afddce5b
DTSTAMP:20260421T154253Z
DTSTART:20251219T190000Z
DTEND:20251219T201500Z
LOCATION:
SUMMARY:Trio Chinar
DESCRIPTION:Le Trio Chinar\, Â formÃ© en 2018 par la pianiste armÃ©nienne L
 usine Lazaryan\,  la chanteuse Barbarie Crespin et le violoniste Rodolphe G
 ault\, Â est nÃ© Ã  lâ€™initiative de lâ€™Association Franco-ArmÃ©nienne dâ
 €™Angers pour commÃ©morer le centenaire du gÃ©nocide armÃ©nien. Depuis\,  l
 e trio poursuit son aventure musicale pour faire rayonner la musique armÃ©n
 ienne\,  hÃ©ritiÃ¨re dâ€™une culture[..]\nhttps://lofficieldepaimboeuf.com/
 events/trio-chinar/
URL:https://lofficieldepaimboeuf.com/events/trio-chinar/
END:VEVENT
END:VCALENDAR