BEGIN:VCALENDAR
VERSION:2.0
PRODID:-//eventon.com NONSGML v1.0//EN
CALSCALE:GREGORIAN
METHOD:PUBLISH
BEGIN:VEVENT
UID:69e762a104f20
DTSTAMP:20260421T114225Z
DTSTART:20251130T090000Z
DTEND:20251130T170000Z
LOCATION:
SUMMARY:Marché de Noël de l'Art
DESCRIPTION:Vente de photos\,  de peintures\,   gravures\,  de dessins\,  
 et de sculptures en présence des artistes : des œuvres originales pour de
 s cadeaux durables !Œuvres exposées avec format et prix unique. 10h - 12h
  et 14h - 18hEntrée libre.\nhttps://lofficieldepaimboeuf.com/events/marche
 -de-noel-de-lart/
URL:https://lofficieldepaimboeuf.com/events/marche-de-noel-de-lart/
END:VEVENT
END:VCALENDAR