BEGIN:VCALENDAR
VERSION:2.0
PRODID:-//eventon.com NONSGML v1.0//EN
CALSCALE:GREGORIAN
METHOD:PUBLISH
BEGIN:VEVENT
UID:69e79650487be
DTSTAMP:20260421T152256Z
DTSTART:20251205T190000Z
DTEND:20251205T225000Z
LOCATION:
SUMMARY:Chloé Tardi & Pierre Lange
DESCRIPTION:Chloé Tardi\,  autrice-compositrice-interprète et Pierre Lang
 e : un duo où les mots se posent face au piano.Elle avec ses chansons\,  p
 uissantes et poétiques\,  mêlent tour à tour son engagement sans faille 
 et sa sensibilité à fleur de peau. Un univers contemporain qui explore le
 s strates de nos ombres et de[..]\nhttps://lofficieldepaimboeuf.com/events/
 chloe-tardi-pierre-lange/
URL:https://lofficieldepaimboeuf.com/events/chloe-tardi-pierre-lange/
END:VEVENT
END:VCALENDAR