BEGIN:VCALENDAR
VERSION:2.0
PRODID:-//eventon.com NONSGML v1.0//EN
CALSCALE:GREGORIAN
METHOD:PUBLISH
BEGIN:VEVENT
UID:69e797e992bca
DTSTAMP:20260421T152945Z
DTSTART:20251024
DTEND:20251025
LOCATION:
SUMMARY:Vente de fromage par l'ALP
DESCRIPTION:L'Amicale Laïque de Paimboeuf vous propose une vente de fromag
 e en direct de la Fruitière de Fontain (25- Doubs)\,  ouverte à tous\,  s
 ur commande préalable avant le 11 novembre : Du fromage à raclette\,  du 
 Comté (doux\,  fruité\,  vieux) et du Mont d’or\,  par portion de 500g 
 ou de 1[..]\nhttps://lofficieldepaimboeuf.com/events/vente-de-fromage-par-l
 alp/
URL:https://lofficieldepaimboeuf.com/events/vente-de-fromage-par-lalp/
END:VEVENT
END:VCALENDAR