BEGIN:VCALENDAR
VERSION:2.0
PRODID:-//eventon.com NONSGML v1.0//EN
CALSCALE:GREGORIAN
METHOD:PUBLISH
BEGIN:VEVENT
UID:69e796a2b804b
DTSTAMP:20260421T152418Z
DTSTART:20251024
DTEND:20251025
LOCATION:
SUMMARY:Vente de sapins Nordmann par l'ALP
DESCRIPTION:L'Amicale Laïque de Paimboeuf vous propose une vente de sapins
  Nordmann\,  ouverte à tous\,  sur commande préalable avant le 14 novembr
 e. Les sapins sont disponibles : en plusieurs tailles : 100-125cm&nbsp;; 12
 5-150cm&nbsp;; 150-175cm ou 175-200cm à des prix allant de 19 à 29 €\, 
  et des socles en bois pour[..]\nhttps://lofficieldepaimboeuf.com/events/ve
 nte-de-sapins-nordmann-par-lalp/
URL:https://lofficieldepaimboeuf.com/events/vente-de-sapins-nordmann-par-lalp/
END:VEVENT
END:VCALENDAR