BEGIN:VCALENDAR
VERSION:2.0
PRODID:-//eventon.com NONSGML v1.0//EN
CALSCALE:GREGORIAN
METHOD:PUBLISH
BEGIN:VEVENT
UID:69e7629877b56
DTSTAMP:20260421T114216Z
DTSTART:20251019T150000Z
DTEND:20251019T180000Z
LOCATION:
SUMMARY:Slow Session
DESCRIPTION:Session de musique irlandaise\,  mais pas seulement. Tous les t
 roisième dimanche du mois.\nhttps://lofficieldepaimboeuf.com/events/slow-s
 ession/
URL:https://lofficieldepaimboeuf.com/events/slow-session/
END:VEVENT
END:VCALENDAR