BEGIN:VCALENDAR
VERSION:2.0
PRODID:-//eventon.com NONSGML v1.0//EN
CALSCALE:GREGORIAN
METHOD:PUBLISH
BEGIN:VEVENT
UID:69e7625043052
DTSTAMP:20260421T114104Z
DTSTART:20250319
DTEND:20250320
LOCATION:
SUMMARY:La Fête du court-métrage à Paimbœuf
DESCRIPTION:Deux ateliers dédiés au cinéma d'animation\,  deux séances 
 accompagnées par les réalisateurs.rices\,  quatre séances "Le goût des 
 autres"\,  une séance consacrée aux "Talents" d'aujourd'hui\,  des séanc
 es jeune public... Découvrez le programme détaillé ici!\nhttps://loffici
 eldepaimboeuf.com/events/la-fete-du-court-a-paimboeuf/
URL:https://lofficieldepaimboeuf.com/events/la-fete-du-court-a-paimboeuf/
END:VEVENT
END:VCALENDAR