BEGIN:VCALENDAR
VERSION:2.0
PRODID:-//eventon.com NONSGML v1.0//EN
CALSCALE:GREGORIAN
METHOD:PUBLISH
BEGIN:VEVENT
UID:69e76301a881b
DTSTAMP:20260421T114401Z
DTSTART:20260329T170000Z
DTEND:20260329T183000Z
LOCATION:
SUMMARY:Addis-Abeba Surf Club
DESCRIPTION:Quartet\nhttps://lofficieldepaimboeuf.com/events/addis-abeba-su
 rf-club/
URL:https://lofficieldepaimboeuf.com/events/addis-abeba-surf-club/
END:VEVENT
END:VCALENDAR