BEGIN:VCALENDAR
VERSION:2.0
PRODID:-//eventon.com NONSGML v1.0//EN
CALSCALE:GREGORIAN
METHOD:PUBLISH
BEGIN:VEVENT
UID:69e76360bc99a
DTSTAMP:20260421T114536Z
DTSTART:20260130T193000Z
DTEND:20260130T210000Z
LOCATION:
SUMMARY:Alber Jupiter
DESCRIPTION:Formé à Rennes en 2018\,  le duo instrumental basse-batterie 
 Alber Jupiter s’inspire de la scène krautrock berlinoise des années 70 
 ou du post-rock halluciné de Godspeed You! Black Emperor pour modeler un p
 aysage sonore aérien unique. Leur rythmique motorik se ballade entre des d
 elays plaintifs et des reverbs intergalactiques. La[..]\nhttps://lofficield
 epaimboeuf.com/events/alber-jupiter/
URL:https://lofficieldepaimboeuf.com/events/alber-jupiter/
END:VEVENT
END:VCALENDAR