BEGIN:VCALENDAR
VERSION:2.0
PRODID:-//eventon.com NONSGML v1.0//EN
CALSCALE:GREGORIAN
METHOD:PUBLISH
BEGIN:VEVENT
UID:69e7964f48704
DTSTAMP:20260421T152255Z
DTSTART:20251205T153000Z
DTEND:20251205T190000Z
LOCATION:
SUMMARY:Un avant Noël chez Mireille
DESCRIPTION:Une soirée conviviale ouverte à tous pour fêter l'avant Noë
 l au centre socioculturel.Au programme : chocolat\,  vin et marrons chauds\
 ,  chorale\,  théâtre\,  ateliers créatifs\,  escape room et photo avec 
 le Père Noël...\nhttps://lofficieldepaimboeuf.com/events/un-avant-noel-ch
 ez-mireille/
URL:https://lofficieldepaimboeuf.com/events/un-avant-noel-chez-mireille/
END:VEVENT
END:VCALENDAR