BEGIN:VCALENDAR
VERSION:2.0
PRODID:-//eventon.com NONSGML v1.0//EN
CALSCALE:GREGORIAN
METHOD:PUBLISH
BEGIN:VEVENT
UID:69e76299cb942
DTSTAMP:20260421T114217Z
DTSTART:20260104T130000Z
DTEND:20260104T160000Z
LOCATION:
SUMMARY:Février La Louve
DESCRIPTION:Que faire à la nuit tombée\,  froide et silencieuse ? Févrie
 r La Louve propose à chacun et chacune de créer un masque\,  son masque :
  trois ateliers pour le fabriquer\,  une semaine pour le mettre au point\, 
  une soirée pour le montrer. Atelier 1\,  dimanche 4 janvier\,  14h - 17h[
 ..]\nhttps://lofficieldepaimboeuf.com/events/fevrier-la-louve/
URL:https://lofficieldepaimboeuf.com/events/fevrier-la-louve/
END:VEVENT
END:VCALENDAR