BEGIN:VCALENDAR
VERSION:2.0
PRODID:-//eventon.com NONSGML v1.0//EN
CALSCALE:GREGORIAN
METHOD:PUBLISH
BEGIN:VEVENT
UID:69e794861c843
DTSTAMP:20260421T151518Z
DTSTART:20251116T081500Z
DTEND:20251116T123000Z
LOCATION:
SUMMARY:Sainte-Barbe des pompiers
DESCRIPTION:La fête de la Sainte-Barbe est une fête consacrée à Barbara
  d'Héliopolis\,  dite sainte Barbe\,  et surnommée «&nbsp;la sainte du f
 eu&nbsp;».« La richesse des légendes entourant le martyre de Sainte-Barb
 e a suscité diverses croyances et pratiques : les mineurs d’abord mais a
 ussi les artificiers\,  les salpêtriers\,  les fondeurs\,  les couleuvrier
 s\, [..]\nhttps://lofficieldepaimboeuf.com/events/sainte-barbe-des-pompiers
 /
URL:https://lofficieldepaimboeuf.com/events/sainte-barbe-des-pompiers/
END:VEVENT
END:VCALENDAR