BEGIN:VCALENDAR
VERSION:2.0
PRODID:-//eventon.com NONSGML v1.0//EN
CALSCALE:GREGORIAN
METHOD:PUBLISH
BEGIN:VEVENT
UID:69e7964ec1618
DTSTAMP:20260421T152254Z
DTSTART:20251020T120000Z
DTEND:20251020T215000Z
LOCATION:
SUMMARY:En forêt
DESCRIPTION:Sortie en forêt\,  rendez-vous au Centre Socioculturel Mireill
 e Moyon. Sur inscription - gratuit\nhttps://lofficieldepaimboeuf.com/events
 /en-foret/
URL:https://lofficieldepaimboeuf.com/events/en-foret/
END:VEVENT
END:VCALENDAR