BEGIN:VCALENDAR
VERSION:2.0
PRODID:-//eventon.com NONSGML v1.0//EN
CALSCALE:GREGORIAN
METHOD:PUBLISH
BEGIN:VEVENT
UID:69e7632575056
DTSTAMP:20260421T114437Z
DTSTART:20251114T181500Z
DTEND:20251114T225000Z
LOCATION:
SUMMARY:Pan Vaca y compañeros
DESCRIPTION:Pan Vaca y compañeros + DJ Salsa (initiation danse) avec Ricar
 do et Marine de Street World Dancers et la participation des élèves de l'
 École de Musique Sud Estuaire Bar sur place • 5€ l'entrée (réservati
 on conseillée via le lien ci-dessous) • 19h15 : Ouverture des portes• 
 19h30 : Initiation à[..]\nhttps://lofficieldepaimboeuf.com/events/pan-vaca
 -y-companeros/
URL:https://lofficieldepaimboeuf.com/events/pan-vaca-y-companeros/
END:VEVENT
END:VCALENDAR