BEGIN:VCALENDAR
VERSION:2.0
PRODID:-//eventon.com NONSGML v1.0//EN
CALSCALE:GREGORIAN
METHOD:PUBLISH
BEGIN:VEVENT
UID:69e79643c5a1c
DTSTAMP:20260421T152243Z
DTSTART:20260109T180000Z
DTEND:20260109T225000Z
LOCATION:
SUMMARY:Vœux de la municipalité
DESCRIPTION:Vœux de la municipalité\nhttps://lofficieldepaimboeuf.com/eve
 nts/voeux-de-la-municipalite/
URL:https://lofficieldepaimboeuf.com/events/voeux-de-la-municipalite/
END:VEVENT
END:VCALENDAR