BEGIN:VCALENDAR
VERSION:2.0
PRODID:-//eventon.com NONSGML v1.0//EN
CALSCALE:GREGORIAN
METHOD:PUBLISH
BEGIN:VEVENT
UID:69e796a204e59
DTSTAMP:20260421T152418Z
DTSTART:20251130T090000Z
DTEND:20251130T160000Z
LOCATION:
SUMMARY:Marché d'hiver de l'Amicale Laïque de Paimboeuf
DESCRIPTION:L’Amicale Laïque de Paimboeuf (ALP) organise son traditionne
 l Marché d’Hiver\,  le dimanche 30 novembre prochain\,  au Hangar (quai 
 Sadi Carnot) de 10 h à 17 h. Près d’une trentaine de créateurs et arti
 sans proposeront leurs produits à la vente. Une belle occasion de faire le
  plein de cadeaux originaux pour[..]\nhttps://lofficieldepaimboeuf.com/even
 ts/marche-dhiver-2/
URL:https://lofficieldepaimboeuf.com/events/marche-dhiver-2/
END:VEVENT
END:VCALENDAR