BEGIN:VCALENDAR
VERSION:2.0
PRODID:-//eventon.com NONSGML v1.0//EN
CALSCALE:GREGORIAN
METHOD:PUBLISH
BEGIN:VEVENT
UID:69e763a12d0b5
DTSTAMP:20260421T114641Z
DTSTART:20260110
DTEND:20260111
LOCATION:
SUMMARY:Les pires voyages au monde
DESCRIPTION:SixiÃ¨me Ã©dition de Janvier de lâ€™Image. Deux expÃ©ditions au
 ront marquÃ© la conquÃªte de lâ€™Antarctique au dÃ©but du XXeÂ  siÃ¨cle.Cel
 le du Terra Nova (1910-1913) menÃ©e par le Britannique Robert Falcon Scott 
 et dont la fin tragique aura frappÃ© les mÃ©moires.Celle de Lâ€™Endurance (
 1914-1916) dirigÃ©e par lâ€™Irlandais Ernest Shackleton dont lâ€™issue relÃ
 ¨ve[..]\nhttps://lofficieldepaimboeuf.com/events/janvier-de-limage/
URL:https://lofficieldepaimboeuf.com/events/janvier-de-limage/
END:VEVENT
END:VCALENDAR