BEGIN:VCALENDAR
VERSION:2.0
PRODID:-//eventon.com NONSGML v1.0//EN
CALSCALE:GREGORIAN
METHOD:PUBLISH
BEGIN:VEVENT
UID:69e796567c4d0
DTSTAMP:20260421T152302Z
DTSTART:20251024
DTEND:20251025
LOCATION:
SUMMARY:Framatome
DESCRIPTION:L’établissement Framatome de Paimbœuf est spécialisé dans
  la fabrication de tubes\,  gaines et barres à bouchons à destination des
  centrales nucléaires. La visite du site vous permettra de voir l’ensemb
 le des process de fabrication et de parler aux experts métiers. Visites de
  deux heures\,  de 8h30 et 13h30 / GratuitSur[..]\nhttps://lofficieldepaimb
 oeuf.com/events/framatome/
URL:https://lofficieldepaimboeuf.com/events/framatome/
END:VEVENT
END:VCALENDAR