BEGIN:VCALENDAR
VERSION:2.0
PRODID:-//eventon.com NONSGML v1.0//EN
CALSCALE:GREGORIAN
METHOD:PUBLISH
BEGIN:VEVENT
UID:69e797293c20e
DTSTAMP:20260421T152633Z
DTSTART:20251001
DTEND:20251002
LOCATION:
SUMMARY:Marie-Claire Lambert
DESCRIPTION:Picarde\,  retraitée\,  installée à Saint-Brevin depuis mai 
 2019\,  elle nous offre durant ces mois d'octobre à décembre toute sa pal
 ette de couleurs\,  de textures variées qu'elle aime commenter dans les mo
 indres détails... C'est ainsi que d'un tableau à un autre elle évoque l
 es différents éléments qui "alimentent" ses œuvres : on[..]\nhttps://lo
 fficieldepaimboeuf.com/events/marie-claire-lambert/
URL:https://lofficieldepaimboeuf.com/events/marie-claire-lambert/
END:VEVENT
END:VCALENDAR