BEGIN:VCALENDAR
VERSION:2.0
PRODID:-//eventon.com NONSGML v1.0//EN
CALSCALE:GREGORIAN
METHOD:PUBLISH
BEGIN:VEVENT
UID:69e7976ee4441
DTSTAMP:20260421T152742Z
DTSTART:20251206
DTEND:20251207
LOCATION:
SUMMARY:¡ Gernika !
DESCRIPTION:"Concert écrit lors de mon voyage sur place en 2021. Gernika\,
   comme tout le Pays Basque espagnol\,  est empreint de cet esprit de lutte
 \,  de révolte\,  de mémoire. Mais loin de n'être qu'un musée mémorial
 \,  la ville est débout et son cœur bat fort sur ses places\,  où la nou
 velle[..]\nhttps://lofficieldepaimboeuf.com/events/gernika/
URL:https://lofficieldepaimboeuf.com/events/gernika/
END:VEVENT
END:VCALENDAR