BEGIN:VCALENDAR
VERSION:2.0
PRODID:-//eventon.com NONSGML v1.0//EN
CALSCALE:GREGORIAN
METHOD:PUBLISH
BEGIN:VEVENT
UID:69e7968a21bdf
DTSTAMP:20260421T152354Z
DTSTART:20251214
DTEND:20251215
LOCATION:
SUMMARY:Harmonie de Paimbœuf
DESCRIPTION:Concert - infos à venir\nhttps://lofficieldepaimboeuf.com/even
 ts/harmonie-de-paimboeuf-2/
URL:https://lofficieldepaimboeuf.com/events/harmonie-de-paimboeuf-2/
END:VEVENT
END:VCALENDAR