BEGIN:VCALENDAR
VERSION:2.0
PRODID:-//eventon.com NONSGML v1.0//EN
CALSCALE:GREGORIAN
METHOD:PUBLISH
BEGIN:VEVENT
UID:69e762c1e04b9
DTSTAMP:20260421T114257Z
DTSTART:20251221T130000Z
DTEND:20251221T172500Z
LOCATION:
SUMMARY:Marché d'art et d'artisanat
DESCRIPTION:Artistes et artisans de Paimbœuf et alentours réunis au Café
  de la Loire pour le solstice d'hiver Street art de 13Arts (Paimbœuf)Des p
 eintures de Dominique Leroy (Paimbœuf)Les stylos de Jean-Pierre Bonnin (Pa
 imbœuf)Du kéfir de Yan Rambaud (Paimbœuf)Les dessins de Janz (Saint-Bré
 vin-les-Pins)Des objets de bois des Manches à Plats (Paimbœuf)Les petites
 [..]\nhttps://lofficieldepaimboeuf.com/events/marche-dart-et-dartisanat/
URL:https://lofficieldepaimboeuf.com/events/marche-dart-et-dartisanat/
END:VEVENT
END:VCALENDAR