BEGIN:VCALENDAR
VERSION:2.0
PRODID:-//eventon.com NONSGML v1.0//EN
CALSCALE:GREGORIAN
METHOD:PUBLISH
BEGIN:VEVENT
UID:69e797165a42c
DTSTAMP:20260421T152614Z
DTSTART:20260116
DTEND:20260117
LOCATION:
SUMMARY:Les Rencontres du film d'archives au cinéma
DESCRIPTION:Rendez-vous autour de la réutilisation des archives filmiques 
 et sonores. Des séances de cinéma suivies d'échanges avec les réalisate
 urs·trices et des ateliers autour de la pellicule argentique pour prépare
 r des projections sur origami Salle Cutullic ; des écoutes et des projecti
 ons au Café de la Loire... Vendredi 16&nbsp;janvier 10h :[..]\nhttps://lof
 ficieldepaimboeuf.com/events/les-rencontres-du-film-darchives-au-cinema-2e-
 edition/
URL:https://lofficieldepaimboeuf.com/events/les-rencontres-du-film-darchives-au-cinema-2e-edition/
END:VEVENT
END:VCALENDAR