BEGIN:VCALENDAR
VERSION:2.0
PRODID:-//eventon.com NONSGML v1.0//EN
CALSCALE:GREGORIAN
METHOD:PUBLISH
BEGIN:VEVENT
UID:69e796a4559e6
DTSTAMP:20260421T152420Z
DTSTART:20251111T060000Z
DTEND:20251111T170000Z
LOCATION:
SUMMARY:Vide grenier de PaimbÅ“uf
DESCRIPTION:Restauration & buvette sur placeInscriptions et renseignements 
 : meheust.martine24@gmail.com - 06.77.03.74.21Emplacement de 2\, 50m : 14â‚
 ¬ - inscriptions avant le 1er novembre\nhttps://lofficieldepaimboeuf.com/ev
 ents/vide-grenier/
URL:https://lofficieldepaimboeuf.com/events/vide-grenier/
END:VEVENT
END:VCALENDAR