BEGIN:VCALENDAR
VERSION:2.0
PRODID:-//eventon.com NONSGML v1.0//EN
CALSCALE:GREGORIAN
METHOD:PUBLISH
BEGIN:VEVENT
UID:69e7638c4d804
DTSTAMP:20260421T114620Z
DTSTART:20251112T090000Z
DTEND:20251112T101500Z
LOCATION:
SUMMARY:Racine de vie
DESCRIPTION:Spectacle musical par la Cie la Roue Tourne.Une petite graine\,
   on la voit à peine ! Et pourtant… libre comme l’air\,  le vent lui s
 ouffle des rencontres merveilleuses. Un brin de chaleur\,  un peu de lumiè
 re\,  quelques gouttes d’eau\,  et beaucoup d’amour\,  suffisent pour q
 u’elle prenne racine et s’élève un[..]\nhttps://lofficieldepaimboeuf.
 com/events/racine-de-vie/
URL:https://lofficieldepaimboeuf.com/events/racine-de-vie/
END:VEVENT
END:VCALENDAR