BEGIN:VCALENDAR
VERSION:2.0
PRODID:-//eventon.com NONSGML v1.0//EN
CALSCALE:GREGORIAN
METHOD:PUBLISH
BEGIN:VEVENT
UID:69e7631e477b9
DTSTAMP:20260421T114430Z
DTSTART:20251105T093000Z
DTEND:20251105T100000Z
LOCATION:
SUMMARY:Pierre et le loup
DESCRIPTION:Une lecture de Pierre et le loup vous sera faite sur la musique
  jouée\,  aux saxophones\,  par le groupe Quatuor Isar. Gratuit\,  pour le
 s 0-3 ans sur réservation à partir du 14 octobre auprès du CSC Mireille 
 Moyon : 02.44.06.01.57\nhttps://lofficieldepaimboeuf.com/events/pierre-et-l
 e-loup/
URL:https://lofficieldepaimboeuf.com/events/pierre-et-le-loup/
END:VEVENT
END:VCALENDAR