BEGIN:VCALENDAR
VERSION:2.0
PRODID:-//eventon.com NONSGML v1.0//EN
CALSCALE:GREGORIAN
METHOD:PUBLISH
BEGIN:VEVENT
UID:69e763db7bba4
DTSTAMP:20260421T114739Z
DTSTART:20251011T173000Z
DTEND:20251011T193000Z
LOCATION:
SUMMARY:Tiens\,  tiens\,  tiens !
DESCRIPTION:Dirigé par Stéphane Lécuyer et&nbsp;Kévin Courriol.Spectacl
 e commémoratif des 80 ans de la libération de la poche de Saint-Nazaire d
 ans l’ambiance des années 39-45\,  avec le&nbsp;chœur scénique enfant\
 ,  le chœur mixte et le Big Band Bibase de l’École Intercommunale de Mu
 sique. Entrée gratuite sur réservation : 02.40.27.39.82 - edmusique@cc-mu
 sique.fr\nhttps://lofficieldepaimboeuf.com/events/tiens-tiens-tiens/
URL:https://lofficieldepaimboeuf.com/events/tiens-tiens-tiens/
END:VEVENT
END:VCALENDAR