BEGIN:VCALENDAR
VERSION:2.0
PRODID:-//eventon.com NONSGML v1.0//EN
CALSCALE:GREGORIAN
METHOD:PUBLISH
BEGIN:VEVENT
UID:69e7976fdb155
DTSTAMP:20260421T152743Z
DTSTART:20251003T170000Z
DTEND:20251003T200000Z
LOCATION:
SUMMARY:Assemblée générale de l'Amicale Laïque de Paimboeuf
DESCRIPTION:L'Amicale Laïque de Paimboeuf vous donne rendez-vous pour son 
 Assemblée générale le : Vendredi 3 octobre 2025 Salle Belem (derrière l
 a Mairie) – Paimboeuf A partir de 19h Un verre de l'amitié sera proposé
  à l'issue de l'AG ! Profitez de l'occasion pour venir nous rencontrer et 
 découvrir notre bande[..]\nhttps://lofficieldepaimboeuf.com/events/assembl
 ee-generale-de-lamicale-laique-de-paimboeuf/
URL:https://lofficieldepaimboeuf.com/events/assemblee-generale-de-lamicale-laique-de-paimboeuf/
END:VEVENT
END:VCALENDAR