BEGIN:VCALENDAR
VERSION:2.0
PRODID:-//eventon.com NONSGML v1.0//EN
CALSCALE:GREGORIAN
METHOD:PUBLISH
BEGIN:VEVENT
UID:69e79729b83f5
DTSTAMP:20260421T152633Z
DTSTART:20251003T170000Z
DTEND:20251003T215000Z
LOCATION:
SUMMARY:Jambon à la broche
DESCRIPTION:Premier anniversaire du Resto'bar !15€ plat et dessert\nhttps
 ://lofficieldepaimboeuf.com/events/jambon-a-la-broche-2/
URL:https://lofficieldepaimboeuf.com/events/jambon-a-la-broche-2/
END:VEVENT
END:VCALENDAR