BEGIN:VCALENDAR
VERSION:2.0
PRODID:-//eventon.com NONSGML v1.0//EN
CALSCALE:GREGORIAN
METHOD:PUBLISH
BEGIN:VEVENT
UID:69e79644c6b59
DTSTAMP:20260421T152244Z
DTSTART:20251109
DTEND:20251110
LOCATION:
SUMMARY:Repas des aînés
DESCRIPTION:Repas des aînés\nhttps://lofficieldepaimboeuf.com/events/repa
 s-des-aines/
URL:https://lofficieldepaimboeuf.com/events/repas-des-aines/
END:VEVENT
END:VCALENDAR