BEGIN:VCALENDAR
VERSION:2.0
PRODID:-//eventon.com NONSGML v1.0//EN
CALSCALE:GREGORIAN
METHOD:PUBLISH
BEGIN:VEVENT
UID:69e797272d2c6
DTSTAMP:20260421T152631Z
DTSTART:20251001T130000Z
DTEND:20251001T150000Z
LOCATION:
SUMMARY:Bibliothèque en fête
DESCRIPTION:Animations\,  ateliers\,  spectacles et surtout rencontres surp
 renantes\,  insolites\,  voire curieuses. Sur le thème de la mythologie\, 
  les mondes anciens et modernes. Pour la fête de la bibliothèque\,  celle
  de Paimbœuf propose quatre rendez-vous :Mercredi 1er octobre\,  15h - 17h
  : défi Légo Cheval de Troie - à partir de 5[..]\nhttps://lofficieldepai
 mboeuf.com/events/bibliotheque-en-fete/
URL:https://lofficieldepaimboeuf.com/events/bibliotheque-en-fete/
END:VEVENT
END:VCALENDAR