BEGIN:VCALENDAR
VERSION:2.0
PRODID:-//eventon.com NONSGML v1.0//EN
CALSCALE:GREGORIAN
METHOD:PUBLISH
BEGIN:VEVENT
UID:69e792143db88
DTSTAMP:20260421T150452Z
DTSTART:20251004
DTEND:20251005
LOCATION:
SUMMARY:Cabaret Estuaire
DESCRIPTION:Seul en scène qui mêle chansons\,  poésie\,  archives et per
 formances sonores\,  objets\,  récits\,  dans un territoire mélangé\,  s
 auvage\,  humain\,  magnifique\,  contaminé\,  désorienté\,  habité\,  
 l'estuaire de la Loire\,  ses marais commensaux et son bord de mer. Horaire
  à préciser\nhttps://lofficieldepaimboeuf.com/events/cabaret-estuaire/
URL:https://lofficieldepaimboeuf.com/events/cabaret-estuaire/
END:VEVENT
END:VCALENDAR