BEGIN:VCALENDAR
VERSION:2.0
PRODID:-//eventon.com NONSGML v1.0//EN
CALSCALE:GREGORIAN
METHOD:PUBLISH
BEGIN:VEVENT
UID:69e763613320d
DTSTAMP:20260421T114537Z
DTSTART:20250924T120000Z
DTEND:20250924T150000Z
LOCATION:
SUMMARY:Santé des femmes
DESCRIPTION:Une journée d'échanges et de prévention autour de la santé 
 féminine. Au programme : alimentation\,  activité physique\,  santé inti
 me et prévention. Des professionnels seront présents pour répondre à to
 utes vos questions. Gratuit – entrée libre\nhttps://lofficieldepaimboeuf
 .com/events/sante-des-femmes/
URL:https://lofficieldepaimboeuf.com/events/sante-des-femmes/
END:VEVENT
END:VCALENDAR