BEGIN:VCALENDAR
VERSION:2.0
PRODID:-//eventon.com NONSGML v1.0//EN
CALSCALE:GREGORIAN
METHOD:PUBLISH
BEGIN:VEVENT
UID:69e796be41ee3
DTSTAMP:20260421T152446Z
DTSTART:20250906T130000Z
DTEND:20250906T133000Z
LOCATION:
SUMMARY:Harmonie de Paimbœuf
DESCRIPTION:Depuis 1957\,  l’Orchestre d’Harmonie de Paimbœuf particip
 e à la vie musicale et culturelle de sa ville et du Pays de Retz. Il est c
 omposé d’une quarantaine de musiciens qui ont à cœur de partager leur 
 passion pour la musique. Fidèle intervenant depuis la création de Détour
 (s) à Paimbœuf\,  il revient[..]\nhttps://lofficieldepaimboeuf.com/events
 /harmonie-de-paimboeuf/
URL:https://lofficieldepaimboeuf.com/events/harmonie-de-paimboeuf/
END:VEVENT
END:VCALENDAR