BEGIN:VCALENDAR
VERSION:2.0
PRODID:-//eventon.com NONSGML v1.0//EN
CALSCALE:GREGORIAN
METHOD:PUBLISH
BEGIN:VEVENT
UID:69e797d8ef310
DTSTAMP:20260421T152928Z
DTSTART:20250906T090000Z
DTEND:20250907T140000Z
LOCATION:
SUMMARY:PaimbÅ“uf et ses drÃ´les d'Ã©poques
DESCRIPTION:TROUPE DES SANS QUEUE NI TEXTE SPECTACLE HUMORISTIQUEÂ« Câ€™Ã©t
 ait mieux avant Â»\,  Â« De mon temps Â»\,  Â« Quand jâ€™Ã©tais jeune Â»â€¦
  Ces expressions\,  le jeune MahÃ© les a entendues tellement de fois.LassÃ©
  des problÃ¨mes de notre Ã©poque\,  il dÃ©cide de faire le voyage jusquâ€™Ã
   PaimbÅ“uf\,  ville rÃ©putÃ©e pour son[..]\nhttps://lofficieldepaimboeuf.c
 om/events/paimboeuf-et-ses-droles-depoques/
URL:https://lofficieldepaimboeuf.com/events/paimboeuf-et-ses-droles-depoques/
END:VEVENT
END:VCALENDAR