BEGIN:VCALENDAR
VERSION:2.0
PRODID:-//eventon.com NONSGML v1.0//EN
CALSCALE:GREGORIAN
METHOD:PUBLISH
BEGIN:VEVENT
UID:69e7638c29d75
DTSTAMP:20260421T114620Z
DTSTART:20250907T080000Z
DTEND:20250907T215000Z
LOCATION:
SUMMARY:La Grande parade Ã  VÃ©lo des familles
DESCRIPTION:PrÃ©parez votre vÃ©lo et votre crÃ©ativitÃ© avec le CSC Mireill
 e Moyon et VÃ©lo Pour Tous\,  Atelier Solidaire ! VTT\,  VTC\,  tandem\,  t
 ricycle\,  vÃ©lo-cargo ou rosalie : tous les vÃ©los sont permis\,  tant quâ
 €™ils sont dÃ©corÃ©s avec cÅ“ur (et humour) ! Guirlandes\,  pompons\,  fani
 ons et paillettes : PaimbÅ“uf se met en[..]\nhttps://lofficieldepaimboeuf.c
 om/events/la-grande-parade-a-velo-des-familles/
URL:https://lofficieldepaimboeuf.com/events/la-grande-parade-a-velo-des-familles/
END:VEVENT
END:VCALENDAR