BEGIN:VCALENDAR
VERSION:2.0
PRODID:-//eventon.com NONSGML v1.0//EN
CALSCALE:GREGORIAN
METHOD:PUBLISH
BEGIN:VEVENT
UID:69e796adac263
DTSTAMP:20260421T152429Z
DTSTART:20251122T193000Z
DTEND:20251122T225000Z
LOCATION:
SUMMARY:Le Silence des pantoufles
DESCRIPTION:Performance radiosonique en réaction à la montée du fascisme
 \,  pour guitares expérimentales\,  pédales\,  trompette dégradée\,  
 mâchoire d’âne\,  mégaphone et archives radiophoniques.Avec Cécile J
 arsaillon\,  musicienne (Les Suprêmes Dindes\,  Vison\,  Parcours Santé)\
 ,  et Antoine Chao\,  producteur radio (Mano Negra\,  Royal de Luxe\,  Là
  bas si j’y suis\,  C’est bientôt demain)« Pire que le bruit des bott
 es\, [..]\nhttps://lofficieldepaimboeuf.com/events/le-silence-des-pantoufle
 s/
URL:https://lofficieldepaimboeuf.com/events/le-silence-des-pantoufles/
END:VEVENT
END:VCALENDAR