BEGIN:VCALENDAR
VERSION:2.0
PRODID:-//eventon.com NONSGML v1.0//EN
CALSCALE:GREGORIAN
METHOD:PUBLISH
BEGIN:VEVENT
UID:69e76302c79fc
DTSTAMP:20260421T114402Z
DTSTART:20251116T180000Z
DTEND:20251116T193000Z
LOCATION:
SUMMARY:Caterina Trio
DESCRIPTION:Anciennement Maxwell Poulos Trio le Caterina Trio est un groupe
  franco-américain de musique instrumentale du sud de l'Italie\,  polkas\, 
  valses\,  mazurkas et tarentelles. Nous sommes particulièrement attachés
  à faire vivre la musique de Ballo Liscio des émigrés italiens aux État
 s-Unis du début du XXe siècle. Musique authentique\,  enrichie d'interven
 tions situant[..]\nhttps://lofficieldepaimboeuf.com/events/caterina-trio/
URL:https://lofficieldepaimboeuf.com/events/caterina-trio/
END:VEVENT
END:VCALENDAR