BEGIN:VCALENDAR
VERSION:2.0
PRODID:-//eventon.com NONSGML v1.0//EN
CALSCALE:GREGORIAN
METHOD:PUBLISH
BEGIN:VEVENT
UID:69e7634345f06
DTSTAMP:20260421T114507Z
DTSTART:20251221T140000Z
DTEND:20251221T225000Z
LOCATION:
SUMMARY:Solstice d'hiver de la mairie
DESCRIPTION:Vin chaud et autres boissons chaudes\,  marrons chauds\,  des m
 arshmallows. 18h30\,  sous la pinède : feu d'artifice (suite au report du 
 13 juillet 2025) Projet porté par les membres de la commission Sport et Vi
 e Associative\nhttps://lofficieldepaimboeuf.com/events/feu-dartifice/
URL:https://lofficieldepaimboeuf.com/events/feu-dartifice/
END:VEVENT
END:VCALENDAR